BEGIN:VCALENDAR
VERSION:2.0
PRODID:-//Association of Radiation Therapy Technologists of TamilNadu - ECPv6.15.20//NONSGML v1.0//EN
CALSCALE:GREGORIAN
METHOD:PUBLISH
X-WR-CALNAME:Association of Radiation Therapy Technologists of TamilNadu
X-ORIGINAL-URL:https://artttn.com
X-WR-CALDESC:Events for Association of Radiation Therapy Technologists of TamilNadu
REFRESH-INTERVAL;VALUE=DURATION:PT1H
X-Robots-Tag:noindex
X-PUBLISHED-TTL:PT1H
BEGIN:VTIMEZONE
TZID:UTC
BEGIN:STANDARD
TZOFFSETFROM:+0000
TZOFFSETTO:+0000
TZNAME:UTC
DTSTART:20220101T000000
END:STANDARD
END:VTIMEZONE
BEGIN:VTIMEZONE
TZID:Asia/Kolkata
BEGIN:STANDARD
TZOFFSETFROM:+0530
TZOFFSETTO:+0530
TZNAME:IST
DTSTART:20220101T000000
END:STANDARD
END:VTIMEZONE
BEGIN:VTIMEZONE
TZID:UTC
BEGIN:STANDARD
TZOFFSETFROM:+0000
TZOFFSETTO:+0000
TZNAME:UTC
DTSTART:20220101T000000
END:STANDARD
END:VTIMEZONE
BEGIN:VEVENT
DTSTART;TZID=UTC:20251116T080000
DTEND;TZID=UTC:20251116T170000
DTSTAMP:20260424T145514
CREATED:20250924T024014Z
LAST-MODIFIED:20251128T164317Z
UID:983-1763280000-1763312400@artttn.com
SUMMARY:3RD ANNUAL CONFERENCE -  ARTTTN CON 2025
DESCRIPTION:ARTTNCON 2025 Conference \n  \nARTTTN CON 2025_Program Schedule_4’X8’_-ARTTTN CON 2025_Program Schedule_4’X8’_-
URL:https://artttn.com/event/3rd-annual-conference-artttn-con-2025/
LOCATION:KMCH Auditorium\, Avinashi Road\, Cbe 641014\, KMCH Auditorium\, Coimbatore\, Tamil Nadu\, 641014\, India
ORGANIZER;CN="KOVAI MEDICAL CENTER AND HOSPITAL  (DEPARTMENT OF RADIATION ONCOLOGY)":MAILTO:artttncon2025@gmail.com
END:VEVENT
BEGIN:VEVENT
DTSTART;VALUE=DATE:20241123
DTEND;VALUE=DATE:20241125
DTSTAMP:20260424T145514
CREATED:20241101T143019Z
LAST-MODIFIED:20241101T143947Z
UID:953-1732320000-1732492799@artttn.com
SUMMARY:2ND ANNUAL CONFERENCE OF THE ASSOCIATION OF RADIATION THERAPY TECHNOLOGISTS OF TAMILNADU
DESCRIPTION:CLICK FOR MORE
URL:https://artttn.com/event/2024/
LOCATION:Tamil Nadu
END:VEVENT
BEGIN:VEVENT
DTSTART;TZID=UTC:20240519T080000
DTEND;TZID=UTC:20240519T180000
DTSTAMP:20260424T145514
CREATED:20240404T121822Z
LAST-MODIFIED:20240404T121822Z
UID:886-1716105600-1716141600@artttn.com
SUMMARY:Annual Symposium of ARTT TN - 2024
DESCRIPTION:
URL:https://artttn.com/event/annual-symposium-of-artt-tn-2024/
LOCATION:G. Kuppuswamy Naidu Memorial Hospital\, Netaji Rd\, Pappanaickenpalayam\,\, Coimbatore\, TamilNadu\, 641037\, India
END:VEVENT
BEGIN:VEVENT
DTSTART;VALUE=DATE:20231203
DTEND;VALUE=DATE:20231204
DTSTAMP:20260424T145514
CREATED:20231027T135916Z
LAST-MODIFIED:20231027T135916Z
UID:870-1701561600-1701647999@artttn.com
SUMMARY:1st Annual Conference of the Association of Radiation Therapy Technologists of Tamil Nadu
DESCRIPTION:It gives us great pleasure in hosting the 1st  State Conference of the Association of Radiation Therapy Technologists of Tamil Nadu on 3rd December\, 2023 at Meenakshi Mission Hospital and Research Centre\, Madurai.
URL:https://artttn.com/event/1st-annual-conference-of-the-association-of-radiation-therapy-technologists-of-tamil-nadu/
LOCATION:6 FLOOR\, CONFERENCE HALL\, MMHRC\, Madurai\, 6 FLOOR\, CONFERENCE HALL\, MMHRC\,\, Madurai\, TamilNadu
END:VEVENT
BEGIN:VEVENT
DTSTART;VALUE=DATE:20231203
DTEND;VALUE=DATE:20231204
DTSTAMP:20260424T145514
CREATED:20240404T132908Z
LAST-MODIFIED:20240404T132908Z
UID:920-1701561600-1701647999@artttn.com
SUMMARY:1st Annual Conference of the Association of Radiation Therapy Technologists of Tamil Nadu
DESCRIPTION:1st Annual Conference of the Association of Radiation Therapy Technologists of Tamil Nadu
URL:https://artttn.com/event/1st-annual-conference-of-the-association-of-radiation-therapy-technologists-of-tamil-nadu-2/
LOCATION:Tamil Nadu
END:VEVENT
BEGIN:VEVENT
DTSTART;VALUE=DATE:20231203
DTEND;VALUE=DATE:20231204
DTSTAMP:20260424T145514
CREATED:20240404T132110Z
LAST-MODIFIED:20240404T132309Z
UID:903-1701561600-1701647999@artttn.com
SUMMARY:மதுரை மீனாட்சி மிஷன் மருத்துவமனை நம் சங்கத்திற்கு ஒரு இலட்சம் ரூபாய்க்கான காசோலையைத் தந்து உதவியுள்ளது என்பதை மகிழ்ச்சியுடன் தெரிவித்துக்கொள்கிறோம்.
DESCRIPTION:
URL:https://artttn.com/event/%e0%ae%ae%e0%ae%a4%e0%af%81%e0%ae%b0%e0%af%88-%e0%ae%ae%e0%af%80%e0%ae%a9%e0%ae%be%e0%ae%9f%e0%af%8d%e0%ae%9a%e0%ae%bf-%e0%ae%ae%e0%ae%bf%e0%ae%b7%e0%ae%a9%e0%af%8d-%e0%ae%ae%e0%ae%b0%e0%af%81/
LOCATION:Tamil Nadu
END:VEVENT
BEGIN:VEVENT
DTSTART;VALUE=DATE:20230701
DTEND;VALUE=DATE:20230702
DTSTAMP:20260424T145514
CREATED:20230623T134612Z
LAST-MODIFIED:20230623T134715Z
UID:857-1688169600-1688255999@artttn.com
SUMMARY:Radiation Therapy Learning Hut
DESCRIPTION:
URL:https://artttn.com/event/radiation-therapy-learning-hut/
LOCATION:Tamil Nadu
END:VEVENT
BEGIN:VEVENT
DTSTART;VALUE=DATE:20230528
DTEND;VALUE=DATE:20230529
DTSTAMP:20260424T145514
CREATED:20230430T145052Z
LAST-MODIFIED:20230511T023206Z
UID:608-1685232000-1685318399@artttn.com
SUMMARY:First CME
DESCRIPTION:Inauguration along with first CME will be held on May 28th 2023 at Anna University auditorium\, Guindy campus\, Chennai.
URL:https://artttn.com/event/first-cme/
LOCATION:Anna University auditorium\, Guindy campus\,\, Chennai\, TamilNadu\, 600025\, India
END:VEVENT
END:VCALENDAR